BEGIN:VCALENDAR
VERSION:2.0
PRODID:-//Sabre//Sabre VObject 4.5.8//EN
CALSCALE:GREGORIAN
BEGIN:VEVENT
UID:sabre-vobject-9bca2950-1003-4b3d-b48b-135dd13df3d5
DTSTAMP:20260419T142949Z
SUMMARY:Beichte der Erstkommunionkinder (Friesenried und Bayersried)
DESCRIPTION:https://pg-eggenthal.de/beichte-der-erstkommunionkinder-friesen
 ried-und-bayersried_id43896
DTSTART;TZID=Europe/Berlin:20260422T150000
DURATION:PT30M
LOCATION:Kirche St. Joseph Friesenried\, Hauptstr. 34\, 87654 Friesenried
END:VEVENT
END:VCALENDAR
