BEGIN:VCALENDAR
VERSION:2.0
PRODID:-//Sabre//Sabre VObject 4.5.8//EN
CALSCALE:GREGORIAN
BEGIN:VEVENT
UID:sabre-vobject-e3849b15-002c-41e9-aa41-4820657a6ec3
DTSTAMP:20260419T230744Z
SUMMARY:Probe der Erstkommunionkinder
DESCRIPTION:https://pg-eggenthal.de/probe-der-erstkommunionkinder_id43898
DTSTART;TZID=Europe/Berlin:20260425T140000
DURATION:PT30M
LOCATION:Kirche St. Joseph Friesenried\, Hauptstr. 34\, 87654 Friesenried
END:VEVENT
END:VCALENDAR
