BEGIN:VCALENDAR
VERSION:2.0
PRODID:-//Sabre//Sabre VObject 4.5.8//EN
CALSCALE:GREGORIAN
BEGIN:VEVENT
UID:sabre-vobject-dcb9b5c5-6645-4ffa-9e0b-5ca0553e6ca2
DTSTAMP:20260419T223336Z
SUMMARY:Barmherzigkeits-Rosenkranz
DESCRIPTION:https://pg-eggenthal.de/barmherzigkeits-rosenkranz_id43902
DTSTART;TZID=Europe/Berlin:20260501T094500
DURATION:PT30M
LOCATION:Kirche St. Joseph Friesenried\, Hauptstr. 34\, 87654 Friesenried
END:VEVENT
END:VCALENDAR
