BEGIN:VCALENDAR
VERSION:2.0
PRODID:-//Sabre//Sabre VObject 4.5.8//EN
CALSCALE:GREGORIAN
BEGIN:VEVENT
UID:sabre-vobject-ac93ae24-bbad-483e-8ecb-010d5574a2e5
DTSTAMP:20260421T113815Z
SUMMARY:Probe der Erstkommunionkinder (Baisweil u. Lauchdorf)
DESCRIPTION:https://pg-eggenthal.de/probe-der-erstkommunionkinder-baisweil-
 u-lauchdorf_id43904
DTSTART;TZID=Europe/Berlin:20260418T140000
DURATION:PT30M
LOCATION:Kirche St. Johannes Baptist Baisweil\, St.-Johannes-Straße 3\, 87
 650 Baisweil
END:VEVENT
END:VCALENDAR
