BEGIN:VCALENDAR
VERSION:2.0
PRODID:-//Sabre//Sabre VObject 4.5.8//EN
CALSCALE:GREGORIAN
BEGIN:VEVENT
UID:sabre-vobject-dd87278b-6ef4-4c45-95c6-a338cb3f133d
DTSTAMP:20260419T144623Z
SUMMARY:Dankandacht mit Opfergabe der Erstkommunionkinder von Baisweil und 
 Lauchdorf
DESCRIPTION:https://pg-eggenthal.de/dankandacht-mit-opfergabe-der-erstkommu
 nionkinder-von-baisweil-und-lauchdorf_id43906
DTSTART;TZID=Europe/Berlin:20260419T160000
DURATION:PT30M
LOCATION:Kirche St. Johannes Baptist Baisweil\, St.-Johannes-Straße 3\, 87
 650 Baisweil
END:VEVENT
END:VCALENDAR
