BEGIN:VCALENDAR
VERSION:2.0
PRODID:-//Sabre//Sabre VObject 4.5.8//EN
CALSCALE:GREGORIAN
BEGIN:VEVENT
UID:sabre-vobject-6cee22c0-8f8e-4f2b-90ab-ac96fbf17866
DTSTAMP:20260422T121253Z
SUMMARY:Vorabendmesse zum Sonntag
DESCRIPTION:https://pg-eggenthal.de/vorabendmesse-zum-sonntag_id44552
DTSTART;TZID=Europe/Berlin:20260516T191500
DURATION:PT30M
LOCATION:Kirche St. Johannes Baptist Baisweil\, St.-Johannes-Straße 3\, 87
 650 Baisweil
END:VEVENT
END:VCALENDAR
