BEGIN:VCALENDAR
VERSION:2.0
PRODID:-//Sabre//Sabre VObject 4.5.8//EN
CALSCALE:GREGORIAN
BEGIN:VEVENT
UID:sabre-vobject-b7f90ab6-6c23-4bbc-a16a-a4443f0131ea
DTSTAMP:20260422T154540Z
SUMMARY:Hl. Messe
DESCRIPTION:https://pg-eggenthal.de/hl-messe_id44554
DTSTART;TZID=Europe/Berlin:20260521T191500
DURATION:PT30M
LOCATION:Kirche St. Johannes Baptist Baisweil\, St.-Johannes-Straße 3\, 87
 650 Baisweil
END:VEVENT
END:VCALENDAR
