BEGIN:VCALENDAR
VERSION:2.0
PRODID:-//Sabre//Sabre VObject 4.5.8//EN
CALSCALE:GREGORIAN
BEGIN:VEVENT
UID:sabre-vobject-9f0d8c56-7f1a-4d09-98b4-6b95a1c41a55
DTSTAMP:20260422T121048Z
SUMMARY:Rosenkranz um die Gaben des Hl. Geistes
DESCRIPTION:https://pg-eggenthal.de/rosenkranz-um-die-gaben-des-hl-geistes_
 id44555
DTSTART;TZID=Europe/Berlin:20260522T160000
DURATION:PT30M
LOCATION:Kirche St. Johannes Baptist Baisweil\, St.-Johannes-Straße 3\, 87
 650 Baisweil
END:VEVENT
END:VCALENDAR
