BEGIN:VCALENDAR
VERSION:2.0
PRODID:-//Sabre//Sabre VObject 4.5.8//EN
CALSCALE:GREGORIAN
BEGIN:VEVENT
UID:sabre-vobject-06f6ffa5-7185-474c-afd7-12ebe93849a9
DTSTAMP:20260422T121214Z
SUMMARY:Festgottesdienst zum Hochfest Christi Himmelfahrt anschl. Flurumgan
 g
DESCRIPTION:https://pg-eggenthal.de/festgottesdienst-zum-hochfest-christi-h
 immelfahrt-anschl-flurumgang_id44556
DTSTART;TZID=Europe/Berlin:20260517T100000
DURATION:PT30M
LOCATION:Kirche St. Nikolaus Bayersried\, Bayersried 30\, 87653 Bayersried
END:VEVENT
END:VCALENDAR
