BEGIN:VCALENDAR
VERSION:2.0
PRODID:-//Sabre//Sabre VObject 4.5.8//EN
CALSCALE:GREGORIAN
BEGIN:VEVENT
UID:sabre-vobject-6c02f083-3053-4f4e-a6be-1480ab33aff9
DTSTAMP:20260422T121259Z
SUMMARY:Rosenkranz um die Gaben des Hl. Geistes
DESCRIPTION:https://pg-eggenthal.de/rosenkranz-um-die-gaben-des-hl-geistes_
 id44557
DTSTART;TZID=Europe/Berlin:20260522T083000
DURATION:PT30M
LOCATION:Kirche St. Nikolaus Bayersried\, Bayersried 30\, 87653 Bayersried
END:VEVENT
END:VCALENDAR
