BEGIN:VCALENDAR
VERSION:2.0
PRODID:-//Sabre//Sabre VObject 4.5.8//EN
CALSCALE:GREGORIAN
BEGIN:VEVENT
UID:sabre-vobject-f6780753-02c5-46c3-8493-1e656d34d415
DTSTAMP:20260422T135244Z
SUMMARY:Rosenkranz um die Gaben des Hl. Geistes
DESCRIPTION:https://pg-eggenthal.de/rosenkranz-um-die-gaben-des-hl-geistes_
 id44561
DTSTART;TZID=Europe/Berlin:20260520T080000
DURATION:PT30M
LOCATION:Kirche St. Wolfgang Blöcktach\, Schwarzenburgstraße 8\, 87654 Bl
 öcktach Friesenried
END:VEVENT
END:VCALENDAR
