BEGIN:VCALENDAR
VERSION:2.0
PRODID:-//Sabre//Sabre VObject 4.5.8//EN
CALSCALE:GREGORIAN
BEGIN:VEVENT
UID:sabre-vobject-8aae1d1c-0686-41a1-9157-2f53db6debe2
DTSTAMP:20260422T135202Z
SUMMARY:Führung in der Maria-Seelenkapelle (Teilnahme ohne Anmeldung)
DESCRIPTION:https://pg-eggenthal.de/fuehrung-in-der-maria-seelenkapelle-tei
 lnahme-ohne-anmeldung_id44564
DTSTART;TZID=Europe/Berlin:20260426T133000
DURATION:PT30M
LOCATION:Kirche St. Afra Eggenthal\, Kirchenstraße 10\, 87653 Eggenthal
END:VEVENT
END:VCALENDAR
