BEGIN:VCALENDAR
VERSION:2.0
PRODID:-//Sabre//Sabre VObject 4.5.8//EN
CALSCALE:GREGORIAN
BEGIN:VEVENT
UID:sabre-vobject-ddfab4de-35a1-4b6e-aa1e-6cb7de591de0
DTSTAMP:20260422T125718Z
SUMMARY:Rosenkranz in der Maria-Seelenkapelle
DESCRIPTION:https://pg-eggenthal.de/rosenkranz-in-der-maria-seelenkapelle_i
 d44565
DTSTART;TZID=Europe/Berlin:20260510T130000
DURATION:PT30M
LOCATION:Kirche St. Afra Eggenthal\, Kirchenstraße 10\, 87653 Eggenthal
END:VEVENT
END:VCALENDAR
