BEGIN:VCALENDAR
VERSION:2.0
PRODID:-//Sabre//Sabre VObject 4.5.8//EN
CALSCALE:GREGORIAN
BEGIN:VEVENT
UID:sabre-vobject-2f6fa005-c810-42fa-91dc-ef9d4003a457
DTSTAMP:20260422T121235Z
SUMMARY:Dankgottesdienst zur Goldenen Hochzeit von Irmgard und Norbert Pfau
 dler
DESCRIPTION:https://pg-eggenthal.de/dankgottesdienst-zur-goldenen-hochzeit-
 von-irmgard-und-norbert-pfaudler_id44566
DTSTART;TZID=Europe/Berlin:20260516T103000
DURATION:PT30M
LOCATION:Kirche St. Afra Eggenthal\, Kirchenstraße 10\, 87653 Eggenthal
END:VEVENT
END:VCALENDAR
