BEGIN:VCALENDAR
VERSION:2.0
PRODID:-//Sabre//Sabre VObject 4.5.8//EN
CALSCALE:GREGORIAN
BEGIN:VEVENT
UID:sabre-vobject-5b4de4f7-e80c-4126-b4e8-647d781a3cd2
DTSTAMP:20260422T135225Z
SUMMARY:Feierliche Maiandacht m. d. Kommunionkindern
DESCRIPTION:https://pg-eggenthal.de/feierliche-maiandacht-m-d-kommunionkind
 ern_id44568
DTSTART;TZID=Europe/Berlin:20260517T191500
DURATION:PT30M
LOCATION:Kirche St. Afra Eggenthal\, Kirchenstraße 10\, 87653 Eggenthal
END:VEVENT
END:VCALENDAR
