BEGIN:VCALENDAR
VERSION:2.0
PRODID:-//Sabre//Sabre VObject 4.5.8//EN
CALSCALE:GREGORIAN
BEGIN:VEVENT
UID:sabre-vobject-aceda1fe-fbf0-4057-bbfa-d1eee388f762
DTSTAMP:20260422T121105Z
SUMMARY:Rosenkranz in der Maria-Seelenkapelle
DESCRIPTION:https://pg-eggenthal.de/rosenkranz-in-der-maria-seelenkapelle_i
 d44569
DTSTART;TZID=Europe/Berlin:20260517T130000
DURATION:PT30M
LOCATION:Kirche St. Afra Eggenthal\, Kirchenstraße 10\, 87653 Eggenthal
END:VEVENT
END:VCALENDAR
