BEGIN:VCALENDAR
VERSION:2.0
PRODID:-//Sabre//Sabre VObject 4.5.8//EN
CALSCALE:GREGORIAN
BEGIN:VEVENT
UID:sabre-vobject-49fe59dd-bfaf-46c7-b970-55692ce40cdb
DTSTAMP:20260422T121114Z
SUMMARY:Gebetsnetz vom Kath. Landvolk in der Maria-Seelenkapelle\n
DESCRIPTION:https://pg-eggenthal.de/gebetsnetz-vom-kath-landvolk-in-der-mar
 ia-seelenkapelle_id44572
DTSTART;TZID=Europe/Berlin:20260521T000000
DURATION:PT30M
LOCATION:Kirche St. Afra Eggenthal\, Kirchenstraße 10\, 87653 Eggenthal
END:VEVENT
END:VCALENDAR
