BEGIN:VCALENDAR
VERSION:2.0
PRODID:-//Sabre//Sabre VObject 4.5.8//EN
CALSCALE:GREGORIAN
BEGIN:VEVENT
UID:sabre-vobject-05555809-4088-4546-97a3-ab4d54626c05
DTSTAMP:20260422T121108Z
SUMMARY:"Singen macht Spaß" im Pfarrheim
DESCRIPTION:https://pg-eggenthal.de/singen-macht-spass-im-pfarrheim_id44573
DTSTART;TZID=Europe/Berlin:20260522T193000
DURATION:PT30M
LOCATION:Pfarrheim Eggenthal\, Römerstr. 8\, 87653 Eggenthal
END:VEVENT
END:VCALENDAR
