BEGIN:VCALENDAR
VERSION:2.0
PRODID:-//Sabre//Sabre VObject 4.5.8//EN
CALSCALE:GREGORIAN
BEGIN:VEVENT
UID:sabre-vobject-7dee7010-4c62-4d82-b971-8e235c66aaad
DTSTAMP:20260422T121314Z
SUMMARY:Rosenkranz zu Ehren der Mutter Gottes (in der Kirche)
DESCRIPTION:https://pg-eggenthal.de/rosenkranz-zu-ehren-der-mutter-gottes-i
 n-der-kirche_id44578
DTSTART;TZID=Europe/Berlin:20260505T090000
DURATION:PT30M
LOCATION:Kirche St. Johannes Baptist Baisweil\, St.-Johannes-Straße 3\, 87
 650 Baisweil
END:VEVENT
END:VCALENDAR
