BEGIN:VCALENDAR
VERSION:2.0
PRODID:-//Sabre//Sabre VObject 4.5.8//EN
CALSCALE:GREGORIAN
BEGIN:VEVENT
UID:sabre-vobject-20a1a859-ad95-4a9c-96a2-b5d75b09a94b
DTSTAMP:20260422T155210Z
SUMMARY:Pfarrgottesdienst
DESCRIPTION:https://pg-eggenthal.de/pfarrgottesdienst_id44579
DTSTART;TZID=Europe/Berlin:20260510T083000
DURATION:PT30M
LOCATION:Kirche St. Johannes Baptist Baisweil\, St.-Johannes-Straße 3\, 87
 650 Baisweil
END:VEVENT
END:VCALENDAR
