BEGIN:VCALENDAR
VERSION:2.0
PRODID:-//Sabre//Sabre VObject 4.5.8//EN
CALSCALE:GREGORIAN
BEGIN:VEVENT
UID:sabre-vobject-1f712a5a-3cc4-402d-ab0f-4e9a5ceaee3c
DTSTAMP:20260422T135309Z
SUMMARY:Bittgang nach Großried (nur bei schönem Wetter)
DESCRIPTION:https://pg-eggenthal.de/bittgang-nach-grossried-nur-bei-schoene
 m-wetter_id44581
DTSTART;TZID=Europe/Berlin:20260511T183000
DURATION:PT30M
LOCATION:Kirche St. Johannes Baptist Baisweil\, St.-Johannes-Straße 3\, 87
 650 Baisweil
END:VEVENT
END:VCALENDAR
