BEGIN:VCALENDAR
VERSION:2.0
PRODID:-//Sabre//Sabre VObject 4.5.8//EN
CALSCALE:GREGORIAN
BEGIN:VEVENT
UID:sabre-vobject-3a0baf8a-efc3-4817-a7fa-1e12e18a81a8
DTSTAMP:20260422T123732Z
SUMMARY:Bittgang nach Eiberg - \n(bei schlechtem Wetter Rosenkranz u. Hl. M
 esse in Baisweil)
DESCRIPTION:https://pg-eggenthal.de/bittgang-nach-eiberg-bei-schlechtem-wet
 ter-rosenkranz-u-hl-messe-in-baisweil_id44582
DTSTART;TZID=Europe/Berlin:20260512T183000
DURATION:PT30M
LOCATION:Kirche St. Johannes Baptist Baisweil\, St.-Johannes-Straße 3\, 87
 650 Baisweil
END:VEVENT
END:VCALENDAR
