BEGIN:VCALENDAR
VERSION:2.0
PRODID:-//Sabre//Sabre VObject 4.5.8//EN
CALSCALE:GREGORIAN
BEGIN:VEVENT
UID:sabre-vobject-41bcc7c6-1c38-432e-a0e8-91f944226957
DTSTAMP:20260422T153009Z
SUMMARY:Bittmesse in der Kapelle in Eiberg
DESCRIPTION:https://pg-eggenthal.de/bittmesse-in-der-kapelle-in-eiberg_id44
 583
DTSTART;TZID=Europe/Berlin:20260512T191500
DURATION:PT30M
LOCATION:Kirche St. Johannes Baptist Baisweil\, St.-Johannes-Straße 3\, 87
 650 Baisweil
END:VEVENT
END:VCALENDAR
