BEGIN:VCALENDAR
VERSION:2.0
PRODID:-//Sabre//Sabre VObject 4.5.8//EN
CALSCALE:GREGORIAN
BEGIN:VEVENT
UID:sabre-vobject-00da1cab-7672-49ab-8bae-f560803d6352
DTSTAMP:20260422T121123Z
SUMMARY:Rosenkranz um gute Witterung
DESCRIPTION:https://pg-eggenthal.de/rosenkranz-um-gute-witterung_id44585
DTSTART;TZID=Europe/Berlin:20260515T160000
DURATION:PT30M
LOCATION:Kirche St. Johannes Baptist Baisweil\, St.-Johannes-Straße 3\, 87
 650 Baisweil
END:VEVENT
END:VCALENDAR
