BEGIN:VCALENDAR
VERSION:2.0
PRODID:-//Sabre//Sabre VObject 4.5.8//EN
CALSCALE:GREGORIAN
BEGIN:VEVENT
UID:sabre-vobject-fdfeaaf2-ec69-4e89-ad0d-b394c911161c
DTSTAMP:20260422T121202Z
SUMMARY:Pfarrgottesdienst in Eggenthal
DESCRIPTION:https://pg-eggenthal.de/pfarrgottesdienst-in-eggenthal_id44590
DTSTART;TZID=Europe/Berlin:20260510T000000
DURATION:PT30M
LOCATION:Kirche St. Nikolaus Bayersried\, Bayersried 30\, 87653 Bayersried
END:VEVENT
END:VCALENDAR
