BEGIN:VCALENDAR
VERSION:2.0
PRODID:-//Sabre//Sabre VObject 4.5.8//EN
CALSCALE:GREGORIAN
BEGIN:VEVENT
UID:sabre-vobject-5a883c73-5d27-49a8-ac3c-b302b1ab87fd
DTSTAMP:20260422T121229Z
SUMMARY:Pfarrgottesdienst in Baisweil
DESCRIPTION:https://pg-eggenthal.de/pfarrgottesdienst-in-baisweil_id44593
DTSTART;TZID=Europe/Berlin:20260517T000000
DURATION:PT30M
LOCATION:Kirche Mariä Himmelfahrt Lauchdorf\, Alpenstraße 38\, 87650 Lauc
 hdorf Baisweil
END:VEVENT
END:VCALENDAR
