BEGIN:VCALENDAR
VERSION:2.0
PRODID:-//Sabre//Sabre VObject 4.5.8//EN
CALSCALE:GREGORIAN
BEGIN:VEVENT
UID:sabre-vobject-cc6da9e6-33b1-49fd-b07b-451a7018d11d
DTSTAMP:20260422T121320Z
SUMMARY:Rosenkranz zu Ehren der Mutter Gottes
DESCRIPTION:https://pg-eggenthal.de/rosenkranz-zu-ehren-der-mutter-gottes_i
 d44594
DTSTART;TZID=Europe/Berlin:20260504T080000
DURATION:PT30M
LOCATION:Kirche St. Wolfgang Blöcktach\, Schwarzenburgstraße 8\, 87654 Bl
 öcktach Friesenried
END:VEVENT
END:VCALENDAR
