BEGIN:VCALENDAR
VERSION:2.0
PRODID:-//Sabre//Sabre VObject 4.5.8//EN
CALSCALE:GREGORIAN
BEGIN:VEVENT
UID:sabre-vobject-7d72135c-db90-4246-a248-154af06fad51
DTSTAMP:20260422T121359Z
SUMMARY:Festgottesdienst in Eggenthal
DESCRIPTION:https://pg-eggenthal.de/festgottesdienst-in-eggenthal_id44601
DTSTART;TZID=Europe/Berlin:20260514T000000
DURATION:PT30M
LOCATION:Kirche St. Nikolaus Bayersried\, Bayersried 30\, 87653 Bayersried
END:VEVENT
END:VCALENDAR
