BEGIN:VCALENDAR
VERSION:2.0
PRODID:-//Sabre//Sabre VObject 4.5.8//EN
CALSCALE:GREGORIAN
BEGIN:VEVENT
UID:sabre-vobject-4728f914-c35d-4f8b-91ae-13c824b34c32
DTSTAMP:20260422T135244Z
SUMMARY:Rosenkranz um gute Witterung
DESCRIPTION:https://pg-eggenthal.de/rosenkranz-um-gute-witterung_id44602
DTSTART;TZID=Europe/Berlin:20260515T083000
DURATION:PT30M
LOCATION:Kirche St. Nikolaus Bayersried\, Bayersried 30\, 87653 Bayersried
END:VEVENT
END:VCALENDAR
