BEGIN:VCALENDAR
VERSION:2.0
PRODID:-//Sabre//Sabre VObject 4.5.8//EN
CALSCALE:GREGORIAN
BEGIN:VEVENT
UID:sabre-vobject-75192b9b-4b57-4542-b652-7071cfa84f76
DTSTAMP:20260422T152507Z
SUMMARY:Pfarrgottesdienst
DESCRIPTION:https://pg-eggenthal.de/pfarrgottesdienst_id44603
DTSTART;TZID=Europe/Berlin:20260503T100000
DURATION:PT30M
LOCATION:Kirche St. Wolfgang Blöcktach\, Schwarzenburgstraße 8\, 87654 Bl
 öcktach Friesenried
END:VEVENT
END:VCALENDAR
