BEGIN:VCALENDAR
VERSION:2.0
PRODID:-//Sabre//Sabre VObject 4.5.8//EN
CALSCALE:GREGORIAN
BEGIN:VEVENT
UID:sabre-vobject-57a59313-61b7-46be-8b1d-75fbf65edeef
DTSTAMP:20260422T153412Z
SUMMARY:Bittmesse
DESCRIPTION:https://pg-eggenthal.de/bittmesse_id44609
DTSTART;TZID=Europe/Berlin:20260512T191500
DURATION:PT30M
LOCATION:Kirche St. Wolfgang Blöcktach\, Schwarzenburgstraße 8\, 87654 Bl
 öcktach Friesenried
END:VEVENT
END:VCALENDAR
