BEGIN:VCALENDAR
VERSION:2.0
PRODID:-//Sabre//Sabre VObject 4.5.8//EN
CALSCALE:GREGORIAN
BEGIN:VEVENT
UID:sabre-vobject-a67934bc-aaed-4ae3-8bf3-5416676fd0d0
DTSTAMP:20260422T121435Z
SUMMARY:Barmherzigkeits-Rosenkranz
DESCRIPTION:https://pg-eggenthal.de/barmherzigkeits-rosenkranz_id44613
DTSTART;TZID=Europe/Berlin:20260517T081500
DURATION:PT30M
LOCATION:Kirche St. Joseph Friesenried\, Hauptstr. 34\, 87654 Friesenried
END:VEVENT
END:VCALENDAR
