BEGIN:VCALENDAR
VERSION:2.0
PRODID:-//Sabre//Sabre VObject 4.5.8//EN
CALSCALE:GREGORIAN
BEGIN:VEVENT
UID:sabre-vobject-05f99a66-de20-4109-bf4f-555df2107d57
DTSTAMP:20260422T121515Z
SUMMARY:Pfarrgottesdienst
DESCRIPTION:https://pg-eggenthal.de/pfarrgottesdienst_id44614
DTSTART;TZID=Europe/Berlin:20260517T083000
DURATION:PT30M
LOCATION:Kirche St. Joseph Friesenried\, Hauptstr. 34\, 87654 Friesenried
END:VEVENT
END:VCALENDAR
