BEGIN:VCALENDAR
VERSION:2.0
PRODID:-//Sabre//Sabre VObject 4.5.8//EN
CALSCALE:GREGORIAN
BEGIN:VEVENT
UID:sabre-vobject-a532d14d-e3b9-4192-a804-9ad6556147f1
DTSTAMP:20260422T121505Z
SUMMARY:Rosenkranz um die Gaben des Hl. Geistes
DESCRIPTION:https://pg-eggenthal.de/rosenkranz-um-die-gaben-des-hl-geistes_
 id44615
DTSTART;TZID=Europe/Berlin:20260520T081500
DURATION:PT30M
LOCATION:Kirche St. Joseph Friesenried\, Hauptstr. 34\, 87654 Friesenried
END:VEVENT
END:VCALENDAR
