BEGIN:VCALENDAR
VERSION:2.0
PRODID:-//Sabre//Sabre VObject 4.5.8//EN
CALSCALE:GREGORIAN
BEGIN:VEVENT
UID:sabre-vobject-e651fd0c-f483-4ca0-b84a-da12e07474a1
DTSTAMP:20260422T154016Z
SUMMARY:"Gemeinsam Mittagessen" in der "Traube"
DESCRIPTION:https://pg-eggenthal.de/gemeinsam-mittagessen-in-der-traube_id4
 4616
DTSTART;TZID=Europe/Berlin:20260520T113000
DURATION:PT30M
LOCATION:Kirche St. Joseph Friesenried\, Hauptstr. 34\, 87654 Friesenried
END:VEVENT
END:VCALENDAR
