BEGIN:VCALENDAR
VERSION:2.0
PRODID:-//Sabre//Sabre VObject 4.5.8//EN
CALSCALE:GREGORIAN
BEGIN:VEVENT
UID:sabre-vobject-0651793f-cb04-4782-a727-9a6bca212af3
DTSTAMP:20260422T121510Z
SUMMARY:Hl. Messe in Salenwang
DESCRIPTION:https://pg-eggenthal.de/hl-messe-in-salenwang_id44617
DTSTART;TZID=Europe/Berlin:20260521T191500
DURATION:PT30M
LOCATION:Kirche St. Joseph Friesenried\, Hauptstr. 34\, 87654 Friesenried
END:VEVENT
END:VCALENDAR
