BEGIN:VCALENDAR
VERSION:2.0
PRODID:-//Sabre//Sabre VObject 4.5.8//EN
CALSCALE:GREGORIAN
BEGIN:VEVENT
UID:sabre-vobject-322d3d3f-8d2f-41e6-aff9-755fb03785a9
DTSTAMP:20260422T121455Z
SUMMARY:??? Kinder-Maiandacht
DESCRIPTION:https://pg-eggenthal.de/kinder-maiandacht_id44618
DTSTART;TZID=Europe/Berlin:20260517T191500
DURATION:PT30M
LOCATION:Kirche Mariä Himmelfahrt Lauchdorf\, Alpenstraße 38\, 87650 Lauc
 hdorf Baisweil
END:VEVENT
END:VCALENDAR
