BEGIN:VCALENDAR
VERSION:2.0
PRODID:-//Sabre//Sabre VObject 4.5.8//EN
CALSCALE:GREGORIAN
BEGIN:VEVENT
UID:sabre-vobject-2db3a0b8-c3e2-4e64-b809-913dd4c6ec3b
DTSTAMP:20260422T121425Z
SUMMARY:Rosenkranz um die Gaben des Hl. Geistes
DESCRIPTION:https://pg-eggenthal.de/rosenkranz-um-die-gaben-des-hl-geistes_
 id44619
DTSTART;TZID=Europe/Berlin:20260520T184500
DURATION:PT30M
LOCATION:Kirche Mariä Himmelfahrt Lauchdorf\, Alpenstraße 38\, 87650 Lauc
 hdorf Baisweil
END:VEVENT
END:VCALENDAR
