BEGIN:VCALENDAR
VERSION:2.0
PRODID:-//Sabre//Sabre VObject 4.5.8//EN
CALSCALE:GREGORIAN
BEGIN:VEVENT
UID:sabre-vobject-adc2226e-c1af-4d09-8d29-3a4f11846870
DTSTAMP:20260422T121530Z
SUMMARY:Hl. Messe
DESCRIPTION:https://pg-eggenthal.de/hl-messe_id44620
DTSTART;TZID=Europe/Berlin:20260520T191500
DURATION:PT30M
LOCATION:Kirche Mariä Himmelfahrt Lauchdorf\, Alpenstraße 38\, 87650 Lauc
 hdorf Baisweil
END:VEVENT
END:VCALENDAR
