BEGIN:VCALENDAR
VERSION:2.0
PRODID:-//Sabre//Sabre VObject 4.5.8//EN
CALSCALE:GREGORIAN
BEGIN:VEVENT
UID:sabre-vobject-e7f9be0d-5187-4825-8b42-6dd1995f5b87
DTSTAMP:20260422T135425Z
SUMMARY:Barmherzigkeits-Rosenkranz
DESCRIPTION:https://pg-eggenthal.de/barmherzigkeits-rosenkranz_id44621
DTSTART;TZID=Europe/Berlin:20260508T190000
DURATION:PT30M
LOCATION:Kirche St. Afra Eggenthal\, Kirchenstraße 10\, 87653 Eggenthal
END:VEVENT
END:VCALENDAR
