BEGIN:VCALENDAR
VERSION:2.0
PRODID:-//Sabre//Sabre VObject 4.5.8//EN
CALSCALE:GREGORIAN
BEGIN:VEVENT
UID:sabre-vobject-9cb99fb3-1a57-4f2c-91e2-2987a65bdfd5
DTSTAMP:20260422T121525Z
SUMMARY:Pfarrgottesdienst als Familiengottesdienst
DESCRIPTION:https://pg-eggenthal.de/pfarrgottesdienst-als-familiengottesdie
 nst_id44624
DTSTART;TZID=Europe/Berlin:20260510T100000
DURATION:PT30M
LOCATION:Kirche St. Afra Eggenthal\, Kirchenstraße 10\, 87653 Eggenthal
END:VEVENT
END:VCALENDAR
