BEGIN:VCALENDAR
VERSION:2.0
PRODID:-//Sabre//Sabre VObject 4.5.8//EN
CALSCALE:GREGORIAN
BEGIN:VEVENT
UID:sabre-vobject-423279be-8133-4395-a259-74b3cc07b96c
DTSTAMP:20260422T121430Z
SUMMARY:Bittgang zur Grotte nach Bayersried (bei gutem Wetter - Treffpunkt 
 bei Ferling \, Wurmannswies
DESCRIPTION:https://pg-eggenthal.de/bittgang-zur-grotte-nach-bayersried-bei
 -gutem-wetter-treffpunkt-bei-ferling-wurmannswies_id44625
DTSTART;TZID=Europe/Berlin:20260511T184500
DURATION:PT30M
LOCATION:Kirche St. Afra Eggenthal\, Kirchenstraße 10\, 87653 Eggenthal
END:VEVENT
END:VCALENDAR
