BEGIN:VCALENDAR
VERSION:2.0
PRODID:-//Sabre//Sabre VObject 4.5.8//EN
CALSCALE:GREGORIAN
BEGIN:VEVENT
UID:sabre-vobject-df4de52a-b4fc-4ca6-96b8-365df9dcf6f7
DTSTAMP:20260422T135405Z
SUMMARY:Feierliche Maiandacht m. d. Kommunionkindern
DESCRIPTION:https://pg-eggenthal.de/feierliche-maiandacht-m-d-kommunionkind
 ern_id44632
DTSTART;TZID=Europe/Berlin:20260503T191500
DURATION:PT30M
LOCATION:Kirche St. Joseph Friesenried\, Hauptstr. 34\, 87654 Friesenried
END:VEVENT
END:VCALENDAR
