BEGIN:VCALENDAR
VERSION:2.0
PRODID:-//Sabre//Sabre VObject 4.5.8//EN
CALSCALE:GREGORIAN
BEGIN:VEVENT
UID:sabre-vobject-1df12fb2-7e0f-4508-9a7f-4910f29b7d66
DTSTAMP:20260422T135410Z
SUMMARY:Rosenkranz um gute Witterung
DESCRIPTION:https://pg-eggenthal.de/rosenkranz-um-gute-witterung_id44636
DTSTART;TZID=Europe/Berlin:20260513T081500
DURATION:PT30M
LOCATION:Kirche St. Joseph Friesenried\, Hauptstr. 34\, 87654 Friesenried
END:VEVENT
END:VCALENDAR
