BEGIN:VCALENDAR
VERSION:2.0
PRODID:-//Sabre//Sabre VObject 4.5.8//EN
CALSCALE:GREGORIAN
BEGIN:VEVENT
UID:sabre-vobject-79334010-1ad4-428b-add1-f742ca408c64
DTSTAMP:20260422T135415Z
SUMMARY:Maiandacht am "alten Friedhof" (DFG) Treffpunkt hinter der Kirche
DESCRIPTION:https://pg-eggenthal.de/maiandacht-am-alten-friedhof-dfg-treffp
 unkt-hinter-der-kirche_id44639
DTSTART;TZID=Europe/Berlin:20260503T190000
DURATION:PT30M
LOCATION:Kirche Mariä Himmelfahrt Lauchdorf\, Alpenstraße 38\, 87650 Lauc
 hdorf Baisweil
END:VEVENT
END:VCALENDAR
