BEGIN:VCALENDAR
VERSION:2.0
PRODID:-//Sabre//Sabre VObject 4.5.8//EN
CALSCALE:GREGORIAN
BEGIN:VEVENT
UID:sabre-vobject-a4eb3500-ad5a-4237-8e6c-3fe6ce679de2
DTSTAMP:20260422T121353Z
SUMMARY:Rosenkranz zu Ehren der Mutter Gottes
DESCRIPTION:https://pg-eggenthal.de/rosenkranz-zu-ehren-der-mutter-gottes_i
 d44640
DTSTART;TZID=Europe/Berlin:20260506T184500
DURATION:PT30M
LOCATION:Kirche Mariä Himmelfahrt Lauchdorf\, Alpenstraße 38\, 87650 Lauc
 hdorf Baisweil
END:VEVENT
END:VCALENDAR
