BEGIN:VCALENDAR
VERSION:2.0
PRODID:-//Sabre//Sabre VObject 4.5.8//EN
CALSCALE:GREGORIAN
BEGIN:VEVENT
UID:sabre-vobject-cf05ed4b-e109-4144-8dae-099ac248f910
DTSTAMP:20260422T135242Z
SUMMARY:Vorabendmesse zum Sonntag
DESCRIPTION:https://pg-eggenthal.de/vorabendmesse-zum-sonntag_id44646
DTSTART;TZID=Europe/Berlin:20260425T191500
DURATION:PT30M
LOCATION:Kirche Mariä Himmelfahrt Lauchdorf\, Alpenstraße 38\, 87650 Lauc
 hdorf Baisweil
END:VEVENT
END:VCALENDAR
