BEGIN:VCALENDAR
VERSION:2.0
PRODID:-//Sabre//Sabre VObject 4.5.8//EN
CALSCALE:GREGORIAN
BEGIN:VEVENT
UID:sabre-vobject-5443f0ef-266d-4e67-bf72-a0f4f00fcf70
DTSTAMP:20260422T135403Z
SUMMARY:Rosenkranz um Priester und Ordensberufe
DESCRIPTION:https://pg-eggenthal.de/rosenkranz-um-priester-und-ordensberufe
 _id44647
DTSTART;TZID=Europe/Berlin:20260429T184500
DURATION:PT30M
LOCATION:Kirche Mariä Himmelfahrt Lauchdorf\, Alpenstraße 38\, 87650 Lauc
 hdorf Baisweil
END:VEVENT
END:VCALENDAR
