BEGIN:VCALENDAR
VERSION:2.0
PRODID:-//Sabre//Sabre VObject 4.5.8//EN
CALSCALE:GREGORIAN
BEGIN:VEVENT
UID:sabre-vobject-f0d692a4-6e89-4b3d-88c5-8a6c2f091e3f
DTSTAMP:20260422T135409Z
SUMMARY:Festgottesdienst zum Hochfest
DESCRIPTION:https://pg-eggenthal.de/festgottesdienst-zum-hochfest_id44650
DTSTART;TZID=Europe/Berlin:20260501T083000
DURATION:PT30M
LOCATION:Kirche Mariä Himmelfahrt Lauchdorf\, Alpenstraße 38\, 87650 Lauc
 hdorf Baisweil
END:VEVENT
END:VCALENDAR
