BEGIN:VCALENDAR
VERSION:2.0
PRODID:-//Sabre//Sabre VObject 4.5.8//EN
CALSCALE:GREGORIAN
BEGIN:VEVENT
UID:sabre-vobject-31752907-d54a-495b-8f40-8726d606335d
DTSTAMP:20260422T124110Z
SUMMARY:Rosenkranz um Priester und Ordensberufe
DESCRIPTION:https://pg-eggenthal.de/rosenkranz-um-priester-und-ordensberufe
 _id44652
DTSTART;TZID=Europe/Berlin:20260428T090000
DURATION:PT30M
LOCATION:Kirche St. Johannes Baptist Baisweil\, St.-Johannes-Straße 3\, 87
 650 Baisweil
END:VEVENT
END:VCALENDAR
